BEGIN:VCALENDAR
VERSION:2.0
PRODID:-//clubdemotosbmw - ECPv5.3.1.1//NONSGML v1.0//EN
CALSCALE:GREGORIAN
METHOD:PUBLISH
X-WR-CALNAME:clubdemotosbmw
X-ORIGINAL-URL:https://clubdemotosbmw.es
X-WR-CALDESC:Eventos para clubdemotosbmw
BEGIN:VTIMEZONE
TZID:Europe/Madrid
BEGIN:DAYLIGHT
TZOFFSETFROM:+0100
TZOFFSETTO:+0200
TZNAME:CEST
DTSTART:20260329T010000
END:DAYLIGHT
BEGIN:STANDARD
TZOFFSETFROM:+0200
TZOFFSETTO:+0100
TZNAME:CET
DTSTART:20261025T010000
END:STANDARD
END:VTIMEZONE
BEGIN:VEVENT
DTSTART;TZID=Europe/Madrid:20260926T080000
DTEND;TZID=Europe/Madrid:20260926T170000
DTSTAMP:20260424T104545
CREATED:20260423T153418Z
LAST-MODIFIED:20260423T154514Z
UID:189831-1790409600-1790442000@clubdemotosbmw.es
SUMMARY:SALIDA A SORT  Â¡Â¡Vamos a buscar loterÃ­a a la Bruixa d'OrÂ¡Â¡
DESCRIPTION:Â  Â  Â  Â  Â  Â  Â  Â  Â  Â  Â  Â  Â  Â  Â  Â SALIDA A SORT \nÂ  Â  Â  Â  Â  Â  Â  Â  Â  Â  Â  Â  Â  Â  Â  Â  Â¡Â¡Vamos a buscar loterÃ­a a la Bruixa d&#8217;OrÂ¡Â¡ \n  \nOs propongo un sÃ¡bado diferente lleno de curvas\, buena comida y a media tarde en casa. \nPunto de encuentro\, 08:15 horas EstaciÃ³n de servicio Repsol EL BRUC . Salida 08:30
URL:https://clubdemotosbmw.es/event/salida-a-sor-vamos-a-buscar-loteria-a-la-bruixa-dor/
CATEGORIES:Ruta de un dÃ­a sin pernoctaciÃ³n
ATTACH;FMTTYPE=image/jpeg:https://clubdemotosbmw.es/wp-content/uploads/2026/04/IMG-20260423-WA0009.jpg
END:VEVENT
END:VCALENDAR